BEGIN:VCALENDAR
VERSION:2.0
PRODID:-//VitaPet Products - ECPv4.1.0.1//NONSGML v1.0//EN
CALSCALE:GREGORIAN
METHOD:PUBLISH
X-WR-CALNAME:VitaPet Products
X-ORIGINAL-URL:https://vitapet.ca
X-WR-CALDESC:Events for VitaPet Products
BEGIN:VEVENT
DTSTART;VALUE=DATE:20130421
DTEND;VALUE=DATE:20130421
DTSTAMP:20260424T043622
CREATED:20130411
LAST-MODIFIED:20130411
UID:148-1366502400-1366588799@vitapet.ca
SUMMARY:Calgary Pet Industry Trade Show
DESCRIPTION:Website
URL:https://vitapet.ca/event/calgary-pet-industry-trade-show/
LOCATION:Big Four Building\, Hall A\, Calgary\, Alberta\, Canada
ATTACH;FMTTYPE=image/jpeg:https://vitapet.ca/wp-content/uploads/2013/04/CY-trade-show-logo-for-web_jpg.jpg
END:VEVENT
END:VCALENDAR